BEGIN:VCALENDAR
VERSION:2.0
PRODID:-//www.hangingrock.org//NONSGML kigkonsult.se iCalcreator 2.30.10//
CALSCALE:GREGORIAN
METHOD:PUBLISH
UID:c7364b17-dedc-4e79-82c8-89c3256002ba
X-WR-CALDESC:
X-WR-RELCALID:62d9a6369cd9ec140bff81e650ad3f15
X-WR-TIMEZONE:America/New_York
BEGIN:VTIMEZONE
TZID:America/New_York
BEGIN:STANDARD
TZNAME:EST
DTSTART:20201101T020000
TZOFFSETFROM:-0400
TZOFFSETTO:-0500
RDATE:20211107T020000
RDATE:20221106T020000
END:STANDARD
BEGIN:DAYLIGHT
TZNAME:EDT
DTSTART:20210314T020000
TZOFFSETFROM:-0500
TZOFFSETTO:-0400
RDATE:20220313T020000
RDATE:20230312T020000
END:DAYLIGHT
END:VTIMEZONE
BEGIN:VEVENT
UID:636914de-5503-4173-a794-a6ebbf695681
DTSTAMP:20260420T220049Z
DESCRIPTION:
DTSTART;TZID=America/New_York:20210925T083000
DTEND;TZID=America/New_York:20210925T120000
LOCATION:
SUMMARY:2021 Fall Golf Scramble
END:VEVENT
END:VCALENDAR
