BEGIN:VCALENDAR
VERSION:2.0
PRODID:-//www.hangingrock.org//NONSGML kigkonsult.se iCalcreator 2.30.10//
CALSCALE:GREGORIAN
METHOD:PUBLISH
UID:6ef3ad53-c3b9-4824-93a1-f18dfda64a9c
X-WR-CALDESC:
X-WR-RELCALID:304019bbeb99ea08021e66760722637c
X-WR-TIMEZONE:America/New_York
BEGIN:VTIMEZONE
TZID:America/New_York
BEGIN:STANDARD
TZNAME:EST
DTSTART:20211107T020000
TZOFFSETFROM:-0400
TZOFFSETTO:-0500
RDATE:20221106T020000
RDATE:20231105T020000
END:STANDARD
BEGIN:DAYLIGHT
TZNAME:EDT
DTSTART:20220313T020000
TZOFFSETFROM:-0500
TZOFFSETTO:-0400
RDATE:20230312T020000
END:DAYLIGHT
END:VTIMEZONE
BEGIN:VEVENT
UID:557694fc-a080-4b03-b8d1-9f2e1f5d5620
DTSTAMP:20260422T220847Z
DESCRIPTION:
DTSTART;TZID=America/New_York:20220605T140000
DTEND;TZID=America/New_York:20220605T170000
LOCATION:
SUMMARY:Celebrate Good Times
END:VEVENT
END:VCALENDAR
