BEGIN:VCALENDAR
VERSION:2.0
PRODID:-//www.hangingrock.org//NONSGML kigkonsult.se iCalcreator 2.30.10//
CALSCALE:GREGORIAN
METHOD:PUBLISH
UID:c6adc502-bcfe-4148-935a-fabb6303b7dc
X-WR-CALDESC:
X-WR-RELCALID:9b756ceb62b605f3108bb84b75e9c3a3
X-WR-TIMEZONE:America/New_York
BEGIN:VTIMEZONE
TZID:America/New_York
BEGIN:STANDARD
TZNAME:EST
DTSTART:20221106T020000
TZOFFSETFROM:-0400
TZOFFSETTO:-0500
RDATE:20231105T020000
END:STANDARD
BEGIN:DAYLIGHT
TZNAME:EDT
DTSTART:20220313T020000
TZOFFSETFROM:-0500
TZOFFSETTO:-0400
RDATE:20230312T020000
RDATE:20240310T020000
END:DAYLIGHT
END:VTIMEZONE
BEGIN:VEVENT
UID:3a243971-b32e-4376-b08e-36c71bc50907
DTSTAMP:20260420T131630Z
DESCRIPTION:
DTSTART;TZID=America/New_York:20230210T180000
DTEND;TZID=America/New_York:20230211T160000
LOCATION:
SUMMARY:Jr. High & High School Retreat
END:VEVENT
END:VCALENDAR
