BEGIN:VCALENDAR
VERSION:2.0
PRODID:-//www.hangingrock.org//NONSGML kigkonsult.se iCalcreator 2.30.10//
CALSCALE:GREGORIAN
METHOD:PUBLISH
UID:a76df50f-589b-4a8e-946e-2cbef81a8b4a
X-WR-CALDESC:
X-WR-RELCALID:bc077cfc7c1293b704ab05bf9a840881
X-WR-TIMEZONE:America/New_York
BEGIN:VTIMEZONE
TZID:America/New_York
BEGIN:STANDARD
TZNAME:EST
DTSTART:20221106T020000
TZOFFSETFROM:-0400
TZOFFSETTO:-0500
RDATE:20231105T020000
END:STANDARD
BEGIN:DAYLIGHT
TZNAME:EDT
DTSTART:20230312T020000
TZOFFSETFROM:-0500
TZOFFSETTO:-0400
RDATE:20240310T020000
END:DAYLIGHT
END:VTIMEZONE
BEGIN:VEVENT
UID:04013747-2a5a-4ae6-91a2-464faeddf9f9
DTSTAMP:20260425T132007Z
DESCRIPTION:
DTSTART;TZID=America/New_York:20230415T080000
DTEND;TZID=America/New_York:20230415T110000
LOCATION:
SUMMARY:Pancake Fundraiser
END:VEVENT
END:VCALENDAR
