BEGIN:VCALENDAR
VERSION:2.0
PRODID:-//www.hangingrock.org//NONSGML kigkonsult.se iCalcreator 2.30.10//
CALSCALE:GREGORIAN
METHOD:PUBLISH
UID:c00ef1c9-ec8f-441f-baf0-a7182adcfeaf
X-WR-CALDESC:
X-WR-RELCALID:fab005bf26c38f3c34263f929f0c7a03
X-WR-TIMEZONE:America/Indiana/Indianapolis
BEGIN:VTIMEZONE
TZID:America/Indiana/Indianapolis
BEGIN:STANDARD
TZNAME:EST
DTSTART:20241103T020000
TZOFFSETFROM:-0400
TZOFFSETTO:-0500
RDATE:20251102T020000
END:STANDARD
BEGIN:DAYLIGHT
TZNAME:EDT
DTSTART:20240310T020000
TZOFFSETFROM:-0500
TZOFFSETTO:-0400
RDATE:20250309T020000
RDATE:20260308T020000
END:DAYLIGHT
END:VTIMEZONE
BEGIN:VEVENT
UID:78515696-8f9b-4f1f-a496-6983156b244d
DTSTAMP:20260422T232145Z
DESCRIPTION:
DTSTART;TZID=America/Indiana/Indianapolis:20250104T100000
DTEND;TZID=America/Indiana/Indianapolis:20250104T160000
LOCATION:6988 South State Rd 263\, West Lebanon\, IN 47991 US
SUMMARY:Ice Breakers
END:VEVENT
END:VCALENDAR
