BEGIN:VCALENDAR
VERSION:2.0
PRODID:-//www.hangingrock.org//NONSGML kigkonsult.se iCalcreator 2.30.10//
CALSCALE:GREGORIAN
METHOD:PUBLISH
UID:82f19331-0b0d-4aa3-8af5-a1eeac211032
X-WR-CALDESC:
X-WR-RELCALID:b5c4655fe747acf98316df9494013efd
X-WR-TIMEZONE:America/New_York
BEGIN:VTIMEZONE
TZID:America/New_York
BEGIN:STANDARD
TZNAME:EST
DTSTART:20241103T020000
TZOFFSETFROM:-0400
TZOFFSETTO:-0500
RDATE:20251102T020000
END:STANDARD
BEGIN:DAYLIGHT
TZNAME:EDT
DTSTART:20240310T020000
TZOFFSETFROM:-0500
TZOFFSETTO:-0400
RDATE:20250309T020000
RDATE:20260308T020000
END:DAYLIGHT
END:VTIMEZONE
BEGIN:VEVENT
UID:a1207d79-90b9-40e6-bcde-f36ea0cb71e0
DTSTAMP:20260422T104146Z
DESCRIPTION:
DTSTART;TZID=America/New_York:20250131T183000
DTEND;TZID=America/New_York:20250201T133000
LOCATION:6988 South State Rd 263\, West Lebanon\, IN 47991 US
SUMMARY:Ladies Overnight Retreat (Sterling)
END:VEVENT
END:VCALENDAR
