BEGIN:VCALENDAR
VERSION:2.0
PRODID:-//www.hangingrock.org//NONSGML kigkonsult.se iCalcreator 2.30.10//
CALSCALE:GREGORIAN
METHOD:PUBLISH
UID:812df9e3-8d4b-4086-9e55-bfbaa3f3f49e
X-WR-CALDESC:
X-WR-RELCALID:c8ec90a02ac18b25235833124b1685ad
X-WR-TIMEZONE:America/New_York
BEGIN:VTIMEZONE
TZID:America/New_York
BEGIN:STANDARD
TZNAME:EST
DTSTART:20251102T020000
TZOFFSETFROM:-0400
TZOFFSETTO:-0500
RDATE:20261101T020000
RDATE:20271107T020000
END:STANDARD
BEGIN:DAYLIGHT
TZNAME:EDT
DTSTART:20260308T020000
TZOFFSETFROM:-0500
TZOFFSETTO:-0400
RDATE:20270314T020000
END:DAYLIGHT
END:VTIMEZONE
BEGIN:VEVENT
UID:0727eb36-aa21-464b-af21-5b22c6257a2b
DTSTAMP:20260422T210011Z
DESCRIPTION:
DTSTART;TZID=America/New_York:20260509T080000
DTEND;TZID=America/New_York:20260509T120000
LOCATION:6988 South State Road 263\, West Lebanon\, IN 47991 US
SUMMARY:Work Day
END:VEVENT
END:VCALENDAR
