BEGIN:VCALENDAR
VERSION:2.0
PRODID:-//www.hangingrock.org//NONSGML kigkonsult.se iCalcreator 2.30.10//
CALSCALE:GREGORIAN
METHOD:PUBLISH
UID:a97c79fd-06db-4689-ab20-6da11c654e72
X-WR-CALDESC:
X-WR-RELCALID:2176108e0a16faedf08a6f65c5e6fa9e
X-WR-TIMEZONE:America/New_York
BEGIN:VTIMEZONE
TZID:America/New_York
BEGIN:STANDARD
TZNAME:EST
DTSTART:20251102T020000
TZOFFSETFROM:-0400
TZOFFSETTO:-0500
RDATE:20261101T020000
RDATE:20271107T020000
END:STANDARD
BEGIN:DAYLIGHT
TZNAME:EDT
DTSTART:20260308T020000
TZOFFSETFROM:-0500
TZOFFSETTO:-0400
RDATE:20270314T020000
END:DAYLIGHT
END:VTIMEZONE
BEGIN:VEVENT
UID:bfff553b-44e0-4d3c-9349-9b12771f1510
DTSTAMP:20260422T042450Z
DESCRIPTION:
DTSTART;TZID=America/New_York:20260531T140000
DTEND;TZID=America/New_York:20260531T170000
LOCATION:6988 South State Road 263\, West Lebanon\, IN 47991 US
SUMMARY:Celebrate Good Times
END:VEVENT
END:VCALENDAR
