BEGIN:VCALENDAR
VERSION:2.0
PRODID:-//www.hangingrock.org//NONSGML kigkonsult.se iCalcreator 2.30.10//
CALSCALE:GREGORIAN
METHOD:PUBLISH
UID:3e4311ac-75f5-453b-b238-05146c36231c
X-WR-CALDESC:
X-WR-RELCALID:fbca4676f3c29b35ead0090fe3767cc8
X-WR-TIMEZONE:America/New_York
BEGIN:VTIMEZONE
TZID:America/New_York
BEGIN:STANDARD
TZNAME:EST
DTSTART:20231105T020000
TZOFFSETFROM:-0400
TZOFFSETTO:-0500
RDATE:20241103T020000
END:STANDARD
BEGIN:DAYLIGHT
TZNAME:EDT
DTSTART:20230312T020000
TZOFFSETFROM:-0500
TZOFFSETTO:-0400
RDATE:20240310T020000
RDATE:20250309T020000
END:DAYLIGHT
END:VTIMEZONE
BEGIN:VEVENT
UID:7c5b8890-3e7c-4fec-b9e2-ec565b3b1ea8
DTSTAMP:20260423T083518Z
DESCRIPTION:
DTSTART;TZID=America/New_York:20240209T180000
DTEND;TZID=America/New_York:20240210T160000
LOCATION:6988 South State Rd 263\, West Lebanon\, IN 47991 US
SUMMARY:Jr. High Retreat
END:VEVENT
END:VCALENDAR
